BEGIN:VCALENDAR
VERSION:2.0
PRODID:-//Elite Goalie - ECPv6.15.20//NONSGML v1.0//EN
CALSCALE:GREGORIAN
METHOD:PUBLISH
X-WR-CALNAME:Elite Goalie
X-ORIGINAL-URL:https://elitegoalie.net
X-WR-CALDESC:Events for Elite Goalie
REFRESH-INTERVAL;VALUE=DURATION:PT1H
X-Robots-Tag:noindex
X-PUBLISHED-TTL:PT1H
BEGIN:VTIMEZONE
TZID:UTC
BEGIN:STANDARD
TZOFFSETFROM:+0000
TZOFFSETTO:+0000
TZNAME:UTC
DTSTART:20250101T000000
END:STANDARD
END:VTIMEZONE
BEGIN:VEVENT
DTSTART;TZID=UTC:20260126T171000
DTEND;TZID=UTC:20260126T181000
DTSTAMP:20260419T143349
CREATED:20250910T044245Z
LAST-MODIFIED:20250918T190658Z
UID:3756-1769447400-1769451000@elitegoalie.net
SUMMARY:Monday Goalie Clinic 5:10 PM to 6:10 PM  Iceland Ice Rink  $80.00
DESCRIPTION:Ice Rink
URL:https://elitegoalie.net/event/monday-goalie-clinic-2-2026-01-26/
LOCATION:Iceland ice rink\, 3345 Hillside Ave\, New Hyde Park\, New York\, 11040
END:VEVENT
BEGIN:VEVENT
DTSTART;TZID=UTC:20260129T160000
DTEND;TZID=UTC:20260129T170000
DTSTAMP:20260419T143349
CREATED:20250910T065835Z
LAST-MODIFIED:20250918T194926Z
UID:3801-1769702400-1769706000@elitegoalie.net
SUMMARY:Thursday Goalie Clinic4:00 PM to 5:00 PMNewbridge Ice Rink$80.00
DESCRIPTION:Ice Rink
URL:https://elitegoalie.net/event/thursday-goalie-clinic-2-2026-01-29/
LOCATION:Newbridge Ice Rink\, Newbridge Ice Rink
END:VEVENT
BEGIN:VEVENT
DTSTART;TZID=UTC:20260202T171000
DTEND;TZID=UTC:20260202T181000
DTSTAMP:20260419T143349
CREATED:20250910T044245Z
LAST-MODIFIED:20250918T190658Z
UID:3757-1770052200-1770055800@elitegoalie.net
SUMMARY:Monday Goalie Clinic 5:10 PM to 6:10 PM  Iceland Ice Rink  $80.00
DESCRIPTION:Ice Rink
URL:https://elitegoalie.net/event/monday-goalie-clinic-2-2026-02-02/
LOCATION:Iceland ice rink\, 3345 Hillside Ave\, New Hyde Park\, New York\, 11040
END:VEVENT
BEGIN:VEVENT
DTSTART;TZID=UTC:20260205T160000
DTEND;TZID=UTC:20260205T170000
DTSTAMP:20260419T143349
CREATED:20250910T065835Z
LAST-MODIFIED:20250918T194926Z
UID:3802-1770307200-1770310800@elitegoalie.net
SUMMARY:Thursday Goalie Clinic4:00 PM to 5:00 PMNewbridge Ice Rink$80.00
DESCRIPTION:Ice Rink
URL:https://elitegoalie.net/event/thursday-goalie-clinic-2-2026-02-05/
LOCATION:Newbridge Ice Rink\, Newbridge Ice Rink
END:VEVENT
BEGIN:VEVENT
DTSTART;TZID=UTC:20260209T171000
DTEND;TZID=UTC:20260209T181000
DTSTAMP:20260419T143349
CREATED:20250910T044245Z
LAST-MODIFIED:20250918T190715Z
UID:3758-1770657000-1770660600@elitegoalie.net
SUMMARY:Monday Goalie Clinic 5:10 PM to 6:10 PM  Iceland Ice Rink  $80.00
DESCRIPTION:Ice Rink
URL:https://elitegoalie.net/event/monday-goalie-clinic-2-2026-02-09/
LOCATION:Iceland ice rink\, 3345 Hillside Ave\, New Hyde Park\, New York\, 11040
END:VEVENT
BEGIN:VEVENT
DTSTART;TZID=UTC:20260212T160000
DTEND;TZID=UTC:20260212T170000
DTSTAMP:20260419T143349
CREATED:20250910T065835Z
LAST-MODIFIED:20250918T194928Z
UID:3803-1770912000-1770915600@elitegoalie.net
SUMMARY:Thursday Goalie Clinic4:00 PM to 5:00 PMNewbridge Ice Rink$80.00
DESCRIPTION:Ice Rink
URL:https://elitegoalie.net/event/thursday-goalie-clinic-2-2026-02-12/
LOCATION:Newbridge Ice Rink\, Newbridge Ice Rink
END:VEVENT
BEGIN:VEVENT
DTSTART;TZID=UTC:20260216T080000
DTEND;TZID=UTC:20260219T170000
DTSTAMP:20260419T143349
CREATED:20250924T213620Z
LAST-MODIFIED:20251114T005019Z
UID:4589-1771228800-1771520400@elitegoalie.net
SUMMARY:Winter Goalie Camp
DESCRIPTION:Contact Ron at ronpetro35@optimum.net
URL:https://elitegoalie.net/event/winter-goalie-camp-2/
END:VEVENT
BEGIN:VEVENT
DTSTART;TZID=UTC:20260219T160000
DTEND;TZID=UTC:20260219T170000
DTSTAMP:20260419T143349
CREATED:20250910T065835Z
LAST-MODIFIED:20250918T194928Z
UID:3804-1771516800-1771520400@elitegoalie.net
SUMMARY:Thursday Goalie Clinic4:00 PM to 5:00 PMNewbridge Ice Rink$80.00
DESCRIPTION:Ice Rink
URL:https://elitegoalie.net/event/thursday-goalie-clinic-2-2026-02-19/
LOCATION:Newbridge Ice Rink\, Newbridge Ice Rink
END:VEVENT
BEGIN:VEVENT
DTSTART;TZID=UTC:20260223T171000
DTEND;TZID=UTC:20260223T181000
DTSTAMP:20260419T143349
CREATED:20250910T044245Z
LAST-MODIFIED:20250918T190715Z
UID:3760-1771866600-1771870200@elitegoalie.net
SUMMARY:Monday Goalie Clinic 5:10 PM to 6:10 PM  Iceland Ice Rink  $80.00
DESCRIPTION:Ice Rink
URL:https://elitegoalie.net/event/monday-goalie-clinic-2-2026-02-23/
LOCATION:Iceland ice rink\, 3345 Hillside Ave\, New Hyde Park\, New York\, 11040
END:VEVENT
BEGIN:VEVENT
DTSTART;TZID=UTC:20260226T160000
DTEND;TZID=UTC:20260226T170000
DTSTAMP:20260419T143349
CREATED:20250910T065835Z
LAST-MODIFIED:20250918T194928Z
UID:3805-1772121600-1772125200@elitegoalie.net
SUMMARY:Thursday Goalie Clinic4:00 PM to 5:00 PMNewbridge Ice Rink$80.00
DESCRIPTION:Ice Rink
URL:https://elitegoalie.net/event/thursday-goalie-clinic-2-2026-02-26/
LOCATION:Newbridge Ice Rink\, Newbridge Ice Rink
END:VEVENT
BEGIN:VEVENT
DTSTART;TZID=UTC:20260302T171000
DTEND;TZID=UTC:20260302T181000
DTSTAMP:20260419T143349
CREATED:20250910T044245Z
LAST-MODIFIED:20250918T190715Z
UID:3761-1772471400-1772475000@elitegoalie.net
SUMMARY:Monday Goalie Clinic 5:10 PM to 6:10 PM  Iceland Ice Rink  $80.00
DESCRIPTION:Ice Rink
URL:https://elitegoalie.net/event/monday-goalie-clinic-2-2026-03-02/
LOCATION:Iceland ice rink\, 3345 Hillside Ave\, New Hyde Park\, New York\, 11040
END:VEVENT
BEGIN:VEVENT
DTSTART;TZID=UTC:20260305T160000
DTEND;TZID=UTC:20260305T170000
DTSTAMP:20260419T143349
CREATED:20250910T065835Z
LAST-MODIFIED:20250918T194929Z
UID:3806-1772726400-1772730000@elitegoalie.net
SUMMARY:Thursday Goalie Clinic4:00 PM to 5:00 PMNewbridge Ice Rink$80.00
DESCRIPTION:Ice Rink
URL:https://elitegoalie.net/event/thursday-goalie-clinic-2-2026-03-05/
LOCATION:Newbridge Ice Rink\, Newbridge Ice Rink
END:VEVENT
BEGIN:VEVENT
DTSTART;TZID=UTC:20260309T171000
DTEND;TZID=UTC:20260309T181000
DTSTAMP:20260419T143349
CREATED:20250910T044245Z
LAST-MODIFIED:20250918T190716Z
UID:3762-1773076200-1773079800@elitegoalie.net
SUMMARY:Monday Goalie Clinic 5:10 PM to 6:10 PM  Iceland Ice Rink  $80.00
DESCRIPTION:Ice Rink
URL:https://elitegoalie.net/event/monday-goalie-clinic-2-2026-03-09/
LOCATION:Iceland ice rink\, 3345 Hillside Ave\, New Hyde Park\, New York\, 11040
END:VEVENT
BEGIN:VEVENT
DTSTART;TZID=UTC:20260312T160000
DTEND;TZID=UTC:20260312T170000
DTSTAMP:20260419T143349
CREATED:20250910T065835Z
LAST-MODIFIED:20250918T194929Z
UID:3807-1773331200-1773334800@elitegoalie.net
SUMMARY:Thursday Goalie Clinic4:00 PM to 5:00 PMNewbridge Ice Rink$80.00
DESCRIPTION:Ice Rink
URL:https://elitegoalie.net/event/thursday-goalie-clinic-2-2026-03-12/
LOCATION:Newbridge Ice Rink\, Newbridge Ice Rink
END:VEVENT
BEGIN:VEVENT
DTSTART;TZID=UTC:20260316T171000
DTEND;TZID=UTC:20260316T181000
DTSTAMP:20260419T143349
CREATED:20250910T044245Z
LAST-MODIFIED:20250918T190716Z
UID:3763-1773681000-1773684600@elitegoalie.net
SUMMARY:Monday Goalie Clinic 5:10 PM to 6:10 PM  Iceland Ice Rink  $80.00
DESCRIPTION:Ice Rink
URL:https://elitegoalie.net/event/monday-goalie-clinic-2-2026-03-16/
LOCATION:Iceland ice rink\, 3345 Hillside Ave\, New Hyde Park\, New York\, 11040
END:VEVENT
BEGIN:VEVENT
DTSTART;TZID=UTC:20260319T160000
DTEND;TZID=UTC:20260319T170000
DTSTAMP:20260419T143349
CREATED:20250910T065835Z
LAST-MODIFIED:20250918T194929Z
UID:3808-1773936000-1773939600@elitegoalie.net
SUMMARY:Thursday Goalie Clinic4:00 PM to 5:00 PMNewbridge Ice Rink$80.00
DESCRIPTION:Ice Rink
URL:https://elitegoalie.net/event/thursday-goalie-clinic-2-2026-03-19/
LOCATION:Newbridge Ice Rink\, Newbridge Ice Rink
END:VEVENT
BEGIN:VEVENT
DTSTART;TZID=UTC:20260323T171000
DTEND;TZID=UTC:20260323T181000
DTSTAMP:20260419T143349
CREATED:20250910T044245Z
LAST-MODIFIED:20250918T190716Z
UID:3764-1774285800-1774289400@elitegoalie.net
SUMMARY:Monday Goalie Clinic 5:10 PM to 6:10 PM  Iceland Ice Rink  $80.00
DESCRIPTION:Ice Rink
URL:https://elitegoalie.net/event/monday-goalie-clinic-2-2026-03-23/
LOCATION:Iceland ice rink\, 3345 Hillside Ave\, New Hyde Park\, New York\, 11040
END:VEVENT
BEGIN:VEVENT
DTSTART;TZID=UTC:20260326T160000
DTEND;TZID=UTC:20260326T170000
DTSTAMP:20260419T143349
CREATED:20250910T065835Z
LAST-MODIFIED:20250918T194929Z
UID:3809-1774540800-1774544400@elitegoalie.net
SUMMARY:Thursday Goalie Clinic4:00 PM to 5:00 PMNewbridge Ice Rink$80.00
DESCRIPTION:Ice Rink
URL:https://elitegoalie.net/event/thursday-goalie-clinic-2-2026-03-26/
LOCATION:Newbridge Ice Rink\, Newbridge Ice Rink
END:VEVENT
BEGIN:VEVENT
DTSTART;TZID=UTC:20260330T171000
DTEND;TZID=UTC:20260330T181000
DTSTAMP:20260419T143349
CREATED:20250910T044245Z
LAST-MODIFIED:20250918T190716Z
UID:3765-1774890600-1774894200@elitegoalie.net
SUMMARY:Monday Goalie Clinic 5:10 PM to 6:10 PM  Iceland Ice Rink  $80.00
DESCRIPTION:Ice Rink
URL:https://elitegoalie.net/event/monday-goalie-clinic-2-2026-03-30/
LOCATION:Iceland ice rink\, 3345 Hillside Ave\, New Hyde Park\, New York\, 11040
END:VEVENT
BEGIN:VEVENT
DTSTART;TZID=UTC:20260402T160000
DTEND;TZID=UTC:20260402T170000
DTSTAMP:20260419T143349
CREATED:20250910T065835Z
LAST-MODIFIED:20250918T194929Z
UID:3810-1775145600-1775149200@elitegoalie.net
SUMMARY:Thursday Goalie Clinic4:00 PM to 5:00 PMNewbridge Ice Rink$80.00
DESCRIPTION:Ice Rink
URL:https://elitegoalie.net/event/thursday-goalie-clinic-2-2026-04-02/
LOCATION:Newbridge Ice Rink\, Newbridge Ice Rink
END:VEVENT
BEGIN:VEVENT
DTSTART;TZID=UTC:20260406T171000
DTEND;TZID=UTC:20260406T181000
DTSTAMP:20260419T143349
CREATED:20250910T044245Z
LAST-MODIFIED:20250918T190717Z
UID:3766-1775495400-1775499000@elitegoalie.net
SUMMARY:Monday Goalie Clinic 5:10 PM to 6:10 PM  Iceland Ice Rink  $80.00
DESCRIPTION:Ice Rink
URL:https://elitegoalie.net/event/monday-goalie-clinic-2-2026-04-06/
LOCATION:Iceland ice rink\, 3345 Hillside Ave\, New Hyde Park\, New York\, 11040
END:VEVENT
BEGIN:VEVENT
DTSTART;TZID=UTC:20260409T160000
DTEND;TZID=UTC:20260409T170000
DTSTAMP:20260419T143349
CREATED:20250910T065835Z
LAST-MODIFIED:20250918T194930Z
UID:3811-1775750400-1775754000@elitegoalie.net
SUMMARY:Thursday Goalie Clinic4:00 PM to 5:00 PMNewbridge Ice Rink$80.00
DESCRIPTION:Ice Rink
URL:https://elitegoalie.net/event/thursday-goalie-clinic-2-2026-04-09/
LOCATION:Newbridge Ice Rink\, Newbridge Ice Rink
END:VEVENT
BEGIN:VEVENT
DTSTART;TZID=UTC:20260413T080000
DTEND;TZID=UTC:20260416T170000
DTSTAMP:20260419T143349
CREATED:20250924T213729Z
LAST-MODIFIED:20251114T005128Z
UID:4591-1776067200-1776358800@elitegoalie.net
SUMMARY:Spring Goalie Camp
DESCRIPTION:2 hours each morning. \nContact Ron at ronpetro35@optimum.net
URL:https://elitegoalie.net/event/spring-goalie-camp/
END:VEVENT
BEGIN:VEVENT
DTSTART;TZID=UTC:20260416T160000
DTEND;TZID=UTC:20260416T170000
DTSTAMP:20260419T143349
CREATED:20250910T065835Z
LAST-MODIFIED:20250918T194930Z
UID:3812-1776355200-1776358800@elitegoalie.net
SUMMARY:Thursday Goalie Clinic4:00 PM to 5:00 PMNewbridge Ice Rink$80.00
DESCRIPTION:Ice Rink
URL:https://elitegoalie.net/event/thursday-goalie-clinic-2-2026-04-16/
LOCATION:Newbridge Ice Rink\, Newbridge Ice Rink
END:VEVENT
BEGIN:VEVENT
DTSTART;TZID=UTC:20260420T171000
DTEND;TZID=UTC:20260420T181000
DTSTAMP:20260419T143349
CREATED:20250910T044245Z
LAST-MODIFIED:20250918T190724Z
UID:3768-1776705000-1776708600@elitegoalie.net
SUMMARY:Monday Goalie Clinic 5:10 PM to 6:10 PM  Iceland Ice Rink  $80.00
DESCRIPTION:Ice Rink
URL:https://elitegoalie.net/event/monday-goalie-clinic-2-2026-04-20/
LOCATION:Iceland ice rink\, 3345 Hillside Ave\, New Hyde Park\, New York\, 11040
END:VEVENT
BEGIN:VEVENT
DTSTART;TZID=UTC:20260423T160000
DTEND;TZID=UTC:20260423T170000
DTSTAMP:20260419T143349
CREATED:20250910T065835Z
LAST-MODIFIED:20250918T194932Z
UID:3813-1776960000-1776963600@elitegoalie.net
SUMMARY:Thursday Goalie Clinic4:00 PM to 5:00 PMNewbridge Ice Rink$80.00
DESCRIPTION:Ice Rink
URL:https://elitegoalie.net/event/thursday-goalie-clinic-2-2026-04-23/
LOCATION:Newbridge Ice Rink\, Newbridge Ice Rink
END:VEVENT
BEGIN:VEVENT
DTSTART;TZID=UTC:20260427T171000
DTEND;TZID=UTC:20260427T181000
DTSTAMP:20260419T143349
CREATED:20250910T044245Z
LAST-MODIFIED:20250918T190724Z
UID:3769-1777309800-1777313400@elitegoalie.net
SUMMARY:Monday Goalie Clinic 5:10 PM to 6:10 PM  Iceland Ice Rink  $80.00
DESCRIPTION:Ice Rink
URL:https://elitegoalie.net/event/monday-goalie-clinic-2-2026-04-27/
LOCATION:Iceland ice rink\, 3345 Hillside Ave\, New Hyde Park\, New York\, 11040
END:VEVENT
BEGIN:VEVENT
DTSTART;TZID=UTC:20260430T160000
DTEND;TZID=UTC:20260430T170000
DTSTAMP:20260419T143349
CREATED:20250910T065835Z
LAST-MODIFIED:20250918T194932Z
UID:3814-1777564800-1777568400@elitegoalie.net
SUMMARY:Thursday Goalie Clinic4:00 PM to 5:00 PMNewbridge Ice Rink$80.00
DESCRIPTION:Ice Rink
URL:https://elitegoalie.net/event/thursday-goalie-clinic-2-2026-04-30/
LOCATION:Newbridge Ice Rink\, Newbridge Ice Rink
END:VEVENT
BEGIN:VEVENT
DTSTART;TZID=UTC:20260504T171000
DTEND;TZID=UTC:20260504T181000
DTSTAMP:20260419T143349
CREATED:20250910T044245Z
LAST-MODIFIED:20250918T190724Z
UID:3770-1777914600-1777918200@elitegoalie.net
SUMMARY:Monday Goalie Clinic 5:10 PM to 6:10 PM  Iceland Ice Rink  $80.00
DESCRIPTION:Ice Rink
URL:https://elitegoalie.net/event/monday-goalie-clinic-2-2026-05-04/
LOCATION:Iceland ice rink\, 3345 Hillside Ave\, New Hyde Park\, New York\, 11040
END:VEVENT
BEGIN:VEVENT
DTSTART;TZID=UTC:20260507T160000
DTEND;TZID=UTC:20260507T170000
DTSTAMP:20260419T143349
CREATED:20250910T065835Z
LAST-MODIFIED:20250918T194933Z
UID:3815-1778169600-1778173200@elitegoalie.net
SUMMARY:Thursday Goalie Clinic4:00 PM to 5:00 PMNewbridge Ice Rink$80.00
DESCRIPTION:Ice Rink
URL:https://elitegoalie.net/event/thursday-goalie-clinic-2-2026-05-07/
LOCATION:Newbridge Ice Rink\, Newbridge Ice Rink
END:VEVENT
END:VCALENDAR