BEGIN:VCALENDAR
VERSION:2.0
PRODID:-//Elite Goalie - ECPv6.15.20//NONSGML v1.0//EN
CALSCALE:GREGORIAN
METHOD:PUBLISH
X-ORIGINAL-URL:https://elitegoalie.net
X-WR-CALDESC:Events for Elite Goalie
REFRESH-INTERVAL;VALUE=DURATION:PT1H
X-Robots-Tag:noindex
X-PUBLISHED-TTL:PT1H
BEGIN:VTIMEZONE
TZID:UTC
BEGIN:STANDARD
TZOFFSETFROM:+0000
TZOFFSETTO:+0000
TZNAME:UTC
DTSTART:20240101T000000
END:STANDARD
END:VTIMEZONE
BEGIN:VEVENT
DTSTART;TZID=UTC:20251002T160000
DTEND;TZID=UTC:20251002T170000
DTSTAMP:20260421T075957
CREATED:20250910T065835Z
LAST-MODIFIED:20250918T194912Z
UID:3783-1759420800-1759424400@elitegoalie.net
SUMMARY:Thursday Goalie Clinic4:00 PM to 5:00 PMNewbridge Ice Rink$80.00
DESCRIPTION:Ice Rink
URL:https://elitegoalie.net/event/thursday-goalie-clinic-2-2025-10-02/
LOCATION:Newbridge Ice Rink\, Newbridge Ice Rink
END:VEVENT
BEGIN:VEVENT
DTSTART;TZID=UTC:20251006T171000
DTEND;TZID=UTC:20251006T181000
DTSTAMP:20260421T075957
CREATED:20250910T044245Z
LAST-MODIFIED:20250918T190555Z
UID:3740-1759770600-1759774200@elitegoalie.net
SUMMARY:Monday Goalie Clinic 5:10 PM to 6:10 PM  Iceland Ice Rink  $80.00
DESCRIPTION:Ice Rink
URL:https://elitegoalie.net/event/monday-goalie-clinic-2-2025-10-06/
LOCATION:Iceland ice rink\, 3345 Hillside Ave\, New Hyde Park\, New York\, 11040
END:VEVENT
BEGIN:VEVENT
DTSTART;TZID=UTC:20251009T160000
DTEND;TZID=UTC:20251009T170000
DTSTAMP:20260421T075957
CREATED:20250910T065835Z
LAST-MODIFIED:20250918T194912Z
UID:3784-1760025600-1760029200@elitegoalie.net
SUMMARY:Thursday Goalie Clinic4:00 PM to 5:00 PMNewbridge Ice Rink$80.00
DESCRIPTION:Ice Rink
URL:https://elitegoalie.net/event/thursday-goalie-clinic-2-2025-10-09/
LOCATION:Newbridge Ice Rink\, Newbridge Ice Rink
END:VEVENT
BEGIN:VEVENT
DTSTART;TZID=UTC:20251013T171000
DTEND;TZID=UTC:20251013T181000
DTSTAMP:20260421T075957
CREATED:20250910T044245Z
LAST-MODIFIED:20250918T190555Z
UID:3741-1760375400-1760379000@elitegoalie.net
SUMMARY:Monday Goalie Clinic 5:10 PM to 6:10 PM  Iceland Ice Rink  $80.00
DESCRIPTION:Ice Rink
URL:https://elitegoalie.net/event/monday-goalie-clinic-2-2025-10-13/
LOCATION:Iceland ice rink\, 3345 Hillside Ave\, New Hyde Park\, New York\, 11040
END:VEVENT
BEGIN:VEVENT
DTSTART;TZID=UTC:20251016T160000
DTEND;TZID=UTC:20251016T170000
DTSTAMP:20260421T075957
CREATED:20250910T065835Z
LAST-MODIFIED:20250918T194912Z
UID:3785-1760630400-1760634000@elitegoalie.net
SUMMARY:Thursday Goalie Clinic4:00 PM to 5:00 PMNewbridge Ice Rink$80.00
DESCRIPTION:Ice Rink
URL:https://elitegoalie.net/event/thursday-goalie-clinic-2-2025-10-16/
LOCATION:Newbridge Ice Rink\, Newbridge Ice Rink
END:VEVENT
BEGIN:VEVENT
DTSTART;TZID=UTC:20251020T171000
DTEND;TZID=UTC:20251020T181000
DTSTAMP:20260421T075957
CREATED:20250910T044245Z
LAST-MODIFIED:20250918T190555Z
UID:3742-1760980200-1760983800@elitegoalie.net
SUMMARY:Monday Goalie Clinic 5:10 PM to 6:10 PM  Iceland Ice Rink  $80.00
DESCRIPTION:Ice Rink
URL:https://elitegoalie.net/event/monday-goalie-clinic-2-2025-10-20/
LOCATION:Iceland ice rink\, 3345 Hillside Ave\, New Hyde Park\, New York\, 11040
END:VEVENT
BEGIN:VEVENT
DTSTART;TZID=UTC:20251023T160000
DTEND;TZID=UTC:20251023T170000
DTSTAMP:20260421T075957
CREATED:20250910T065835Z
LAST-MODIFIED:20250918T194913Z
UID:3786-1761235200-1761238800@elitegoalie.net
SUMMARY:Thursday Goalie Clinic4:00 PM to 5:00 PMNewbridge Ice Rink$80.00
DESCRIPTION:Ice Rink
URL:https://elitegoalie.net/event/thursday-goalie-clinic-2-2025-10-23/
LOCATION:Newbridge Ice Rink\, Newbridge Ice Rink
END:VEVENT
BEGIN:VEVENT
DTSTART;TZID=UTC:20251027T171000
DTEND;TZID=UTC:20251027T181000
DTSTAMP:20260421T075957
CREATED:20250910T044245Z
LAST-MODIFIED:20250918T190556Z
UID:3743-1761585000-1761588600@elitegoalie.net
SUMMARY:Monday Goalie Clinic 5:10 PM to 6:10 PM  Iceland Ice Rink  $80.00
DESCRIPTION:Ice Rink
URL:https://elitegoalie.net/event/monday-goalie-clinic-2-2025-10-27/
LOCATION:Iceland ice rink\, 3345 Hillside Ave\, New Hyde Park\, New York\, 11040
END:VEVENT
BEGIN:VEVENT
DTSTART;TZID=UTC:20251030T160000
DTEND;TZID=UTC:20251030T170000
DTSTAMP:20260421T075957
CREATED:20250910T065835Z
LAST-MODIFIED:20250918T194913Z
UID:3787-1761840000-1761843600@elitegoalie.net
SUMMARY:Thursday Goalie Clinic4:00 PM to 5:00 PMNewbridge Ice Rink$80.00
DESCRIPTION:Ice Rink
URL:https://elitegoalie.net/event/thursday-goalie-clinic-2-2025-10-30/
LOCATION:Newbridge Ice Rink\, Newbridge Ice Rink
END:VEVENT
END:VCALENDAR